BEGIN:VCALENDAR
VERSION:2.0
PRODID:-//Bristol Bordeaux Partnership - ECPv6.15.20//NONSGML v1.0//EN
CALSCALE:GREGORIAN
METHOD:PUBLISH
X-WR-CALNAME:Bristol Bordeaux Partnership
X-ORIGINAL-URL:https://www.bristolbordeaux.org
X-WR-CALDESC:Events for Bristol Bordeaux Partnership
REFRESH-INTERVAL;VALUE=DURATION:PT1H
X-Robots-Tag:noindex
X-PUBLISHED-TTL:PT1H
BEGIN:VTIMEZONE
TZID:Europe/London
BEGIN:DAYLIGHT
TZOFFSETFROM:+0000
TZOFFSETTO:+0100
TZNAME:BST
DTSTART:20210328T010000
END:DAYLIGHT
BEGIN:STANDARD
TZOFFSETFROM:+0100
TZOFFSETTO:+0000
TZNAME:GMT
DTSTART:20211031T010000
END:STANDARD
BEGIN:DAYLIGHT
TZOFFSETFROM:+0000
TZOFFSETTO:+0100
TZNAME:BST
DTSTART:20220327T010000
END:DAYLIGHT
BEGIN:STANDARD
TZOFFSETFROM:+0100
TZOFFSETTO:+0000
TZNAME:GMT
DTSTART:20221030T010000
END:STANDARD
BEGIN:DAYLIGHT
TZOFFSETFROM:+0000
TZOFFSETTO:+0100
TZNAME:BST
DTSTART:20230326T010000
END:DAYLIGHT
BEGIN:STANDARD
TZOFFSETFROM:+0100
TZOFFSETTO:+0000
TZNAME:GMT
DTSTART:20231029T010000
END:STANDARD
BEGIN:DAYLIGHT
TZOFFSETFROM:+0000
TZOFFSETTO:+0100
TZNAME:BST
DTSTART:20240331T010000
END:DAYLIGHT
BEGIN:STANDARD
TZOFFSETFROM:+0100
TZOFFSETTO:+0000
TZNAME:GMT
DTSTART:20241027T010000
END:STANDARD
END:VTIMEZONE
BEGIN:VEVENT
DTSTART;TZID=Europe/London:20230425T183000
DTEND;TZID=Europe/London:20230425T213000
DTSTAMP:20260421T234750
CREATED:20230421T150552Z
LAST-MODIFIED:20230421T150733Z
UID:1429-1682447400-1682458200@www.bristolbordeaux.org
SUMMARY:Formule Watershed : Un beau matin (One Fine Morning)
DESCRIPTION:La fameuse ‘Formule Watershed’ étant restée trop longtemps dans l’oubli\, je propose qu’on se retrouve à partir de 18h30 au Watershed pour papoter\, prendre un verre ou bien grignoter quelque chose\, avec la possibilité de voir le film ‘Un beau matin’ à 20h20 et même en parler après pour ceux qui n’ont pas à se lever trop tôt le lendemain … On peut également profiter ainsi d’un rabais de 30% sur les plats principaux disponibles\, dans le cadre de la promotion « Cinébites » . Evidemment\, rien ne vous empêche de rester dans le bar à parler si vous préférez sauter le film ! En tous cas\, j’espère vous y voir nombreux. Vous pouvez voir la bande-annonce du film avec le lien ci-dessous :https://www.youtube.com/watch?v=VRI2_9IZEc8&ab_channel=SonyPicturesClassics
URL:https://www.bristolbordeaux.org/event/formule-watershed-un-beau-matin-one-fine-morning/
LOCATION:Watershed\, 1 Canon's Road\, Bristol\, BS1 5TX\, United Kingdom
END:VEVENT
BEGIN:VEVENT
DTSTART;TZID=Europe/London:20230422T113000
DTEND;TZID=Europe/London:20230422T133000
DTSTAMP:20260421T234750
CREATED:20230327T171338Z
LAST-MODIFIED:20230327T171341Z
UID:1370-1682163000-1682170200@www.bristolbordeaux.org
SUMMARY:Le French Walk & Talk
DESCRIPTION:Qu’est-ce que c’est ? \n\n\n\nJoin this friendly group of French students of mixed levels and native speakers every month for a walk around Bristol harbourside with a delicious sandwich in hand to practise your speaking skills! \n\n\n\nWe sometimes end up in a cosy café during wet days or when people still have things to share at the end of the walk.
URL:https://www.bristolbordeaux.org/event/le-french-walk-talk/
LOCATION:Museum Square\, Museum Street\, Bristol\, Bristol\, BS1 4RN\, United Kingdom
END:VEVENT
BEGIN:VEVENT
DTSTART;TZID=Europe/London:20230413T180000
DTEND;TZID=Europe/London:20230413T200000
DTSTAMP:20260421T234750
CREATED:20230324T153225Z
LAST-MODIFIED:20230324T153231Z
UID:1349-1681408800-1681416000@www.bristolbordeaux.org
SUMMARY:BBP Committee Meeting
DESCRIPTION:Bristol Bordeaux Partnership Committee meeting
URL:https://www.bristolbordeaux.org/event/bbp-committee-meeting/
LOCATION:Bristol Marriott Royal Hotel\, College Green\, Bristol\, BS1 5TA\, United Kingdom
END:VEVENT
BEGIN:VEVENT
DTSTART;TZID=Europe/London:20230407T170000
DTEND;TZID=Europe/London:20230407T190000
DTSTAMP:20260421T234750
CREATED:20230327T165618Z
LAST-MODIFIED:20230327T165628Z
UID:1363-1680886800-1680894000@www.bristolbordeaux.org
SUMMARY:Bristol French Meetup
DESCRIPTION:Bonjour ! \n\n\n\nPour nos prochaines conversations en français\, retrouvons-nous au bar de Zero Degrees. J’ai réservé les sofas bleus au premier étage. \n\n\n\nLa réservation est à partir de 5 heures car je pense que ce sera plus calme pour discuter. J’espère donc y rencontrer anciens et nouveaux membres.
URL:https://www.bristolbordeaux.org/event/bristol-french-meetup/
LOCATION:Zero Degrees\, 53 Colston Street\, Bristol\, Bristol\, BS1 5BA\, United Kingdom
END:VEVENT
BEGIN:VEVENT
DTSTART;TZID=Europe/London:20230309T180000
DTEND;TZID=Europe/London:20230309T200000
DTSTAMP:20260421T234750
CREATED:20230324T152954Z
LAST-MODIFIED:20230324T153335Z
UID:1345-1678384800-1678392000@www.bristolbordeaux.org
SUMMARY:BBP Committee Meeting
DESCRIPTION:BBP Committee Meeting
URL:https://www.bristolbordeaux.org/event/committee-meeting/
LOCATION:Bristol Marriott Royal Hotel\, College Green\, Bristol\, BS1 5TA\, United Kingdom
END:VEVENT
BEGIN:VEVENT
DTSTART;TZID=Europe/London:20220616T190000
DTEND;TZID=Europe/London:20220616T220000
DTSTAMP:20260421T234750
CREATED:20230324T153830Z
LAST-MODIFIED:20230324T153835Z
UID:1352-1655406000-1655416800@www.bristolbordeaux.org
SUMMARY:Wine Tasting
DESCRIPTION:Shared event: Bristol Bordeaux Hannover
URL:https://www.bristolbordeaux.org/event/wine-tasting/
LOCATION:Averys Wine Merchants\, 9 Culver St\, Bristol\, Bristol\, BS1 5LD\, United Kingdom
END:VEVENT
BEGIN:VEVENT
DTSTART;TZID=Europe/London:20220528T080000
DTEND;TZID=Europe/London:20220529T170000
DTSTAMP:20260421T234750
CREATED:20230324T154239Z
LAST-MODIFIED:20230324T155048Z
UID:1356-1653724800-1653843600@www.bristolbordeaux.org
SUMMARY:Upfest
DESCRIPTION:Bordeaux Street Artists @ Upfest
URL:https://www.bristolbordeaux.org/event/upfest/
LOCATION:Greville Smythe Park\, Ashton Gate Rd\, Bristol\, Bristol\, BS3 2EQ\, United Kingdom
END:VEVENT
END:VCALENDAR