BEGIN:VCALENDAR
VERSION:2.0
PRODID:-//Bristol Bordeaux Partnership - ECPv6.15.20//NONSGML v1.0//EN
CALSCALE:GREGORIAN
METHOD:PUBLISH
X-WR-CALNAME:Bristol Bordeaux Partnership
X-ORIGINAL-URL:https://www.bristolbordeaux.org
X-WR-CALDESC:Events for Bristol Bordeaux Partnership
REFRESH-INTERVAL;VALUE=DURATION:PT1H
X-Robots-Tag:noindex
X-PUBLISHED-TTL:PT1H
BEGIN:VTIMEZONE
TZID:Europe/London
BEGIN:DAYLIGHT
TZOFFSETFROM:+0000
TZOFFSETTO:+0100
TZNAME:BST
DTSTART:20230326T010000
END:DAYLIGHT
BEGIN:STANDARD
TZOFFSETFROM:+0100
TZOFFSETTO:+0000
TZNAME:GMT
DTSTART:20231029T010000
END:STANDARD
BEGIN:DAYLIGHT
TZOFFSETFROM:+0000
TZOFFSETTO:+0100
TZNAME:BST
DTSTART:20240331T010000
END:DAYLIGHT
BEGIN:STANDARD
TZOFFSETFROM:+0100
TZOFFSETTO:+0000
TZNAME:GMT
DTSTART:20241027T010000
END:STANDARD
BEGIN:DAYLIGHT
TZOFFSETFROM:+0000
TZOFFSETTO:+0100
TZNAME:BST
DTSTART:20250330T010000
END:DAYLIGHT
BEGIN:STANDARD
TZOFFSETFROM:+0100
TZOFFSETTO:+0000
TZNAME:GMT
DTSTART:20251026T010000
END:STANDARD
END:VTIMEZONE
BEGIN:VEVENT
DTSTART;TZID=Europe/London:20240806T080000
DTEND;TZID=Europe/London:20240806T170000
DTSTAMP:20260421T230540
CREATED:20240614T092818Z
LAST-MODIFIED:20240614T092821Z
UID:1714-1722931200-1722963600@www.bristolbordeaux.org
SUMMARY:TWINNING TUESDAY
DESCRIPTION:M-Shed is hosting a series of Twinning awareness events over the summer. Bordeaux is represented on August 6th 2024. Drop in for a conversation.
URL:https://www.bristolbordeaux.org/event/twinning-tuesday/
LOCATION:M-Shed\, M-Shed\, Princes Wharf\, Bristol\, Bristol\, BS1 4RN\, United Kingdom
END:VEVENT
END:VCALENDAR