BEGIN:VCALENDAR
VERSION:2.0
PRODID:-//Bristol Bordeaux Partnership - ECPv6.15.20//NONSGML v1.0//EN
CALSCALE:GREGORIAN
METHOD:PUBLISH
X-ORIGINAL-URL:https://www.bristolbordeaux.org
X-WR-CALDESC:Events for Bristol Bordeaux Partnership
REFRESH-INTERVAL;VALUE=DURATION:PT1H
X-Robots-Tag:noindex
X-PUBLISHED-TTL:PT1H
BEGIN:VTIMEZONE
TZID:Europe/London
BEGIN:DAYLIGHT
TZOFFSETFROM:+0000
TZOFFSETTO:+0100
TZNAME:BST
DTSTART:20220327T010000
END:DAYLIGHT
BEGIN:STANDARD
TZOFFSETFROM:+0100
TZOFFSETTO:+0000
TZNAME:GMT
DTSTART:20221030T010000
END:STANDARD
BEGIN:DAYLIGHT
TZOFFSETFROM:+0000
TZOFFSETTO:+0100
TZNAME:BST
DTSTART:20230326T010000
END:DAYLIGHT
BEGIN:STANDARD
TZOFFSETFROM:+0100
TZOFFSETTO:+0000
TZNAME:GMT
DTSTART:20231029T010000
END:STANDARD
BEGIN:DAYLIGHT
TZOFFSETFROM:+0000
TZOFFSETTO:+0100
TZNAME:BST
DTSTART:20240331T010000
END:DAYLIGHT
BEGIN:STANDARD
TZOFFSETFROM:+0100
TZOFFSETTO:+0000
TZNAME:GMT
DTSTART:20241027T010000
END:STANDARD
END:VTIMEZONE
BEGIN:VEVENT
DTSTART;TZID=Europe/London:20231002T080000
DTEND;TZID=Europe/London:20231005T170000
DTSTAMP:20260421T131148
CREATED:20230822T110840Z
LAST-MODIFIED:20230905T110213Z
UID:1559-1696233600-1696525200@www.bristolbordeaux.org
SUMMARY:Bristol Together Schools: Bordeaux
DESCRIPTION:Community of Purpose \n\n\n\n\n\nLaunched in 2012\, the Bristol Together Championships programme brings together year 5 children from Bristol schools in areas diverse in ethnicity\, race\, class\, faith\, and geography to connect and build friendships across perceived divides. After the tournament\, 30 children from 6 participating schools are selected to represent Bristol in Bordeaux on a four-day trip as part of the cities’ twinning relationship. The 2023 participants will be in Bordeaux in October.
URL:https://www.bristolbordeaux.org/event/bristol-schools-bordeaux/
LOCATION:Bordeaux\, Bordeaux\, 33063\, France
ORGANIZER;CN="Community of Purpose":MAILTO:hello@communityofpurpose.com
END:VEVENT
BEGIN:VEVENT
DTSTART;TZID=Europe/London:20231009T080000
DTEND;TZID=Europe/London:20231013T170000
DTSTAMP:20260421T131148
CREATED:20230825T151025Z
LAST-MODIFIED:20230825T151047Z
UID:1604-1696838400-1697216400@www.bristolbordeaux.org
SUMMARY:Bristol Technology Festival
DESCRIPTION:THE UK’S LARGEST & MOST CONNECTED REGIONAL TECHNOLOGY FESTIVAL. The purpose of Bristol Technology Festival is to showcase and support the thriving tech ecosystem in Bristol\, which accounts for 36% of the city’s high-growth businesses. Our city’s tech landscape contains a mix of tech giants and emerging start-ups\, making it the city with the greatest number of high-growth technology companies in the South West of England\, and one of the top 20 performing tech clusters in Europe.
URL:https://www.bristolbordeaux.org/event/bristol-technology-festival/
LOCATION:Bristol\, Bristol\, Bristol\, BS1 4UA\, United Kingdom
ORGANIZER;CN="TechSPARK - Bristol":MAILTO:hello@techspark.co
END:VEVENT
BEGIN:VEVENT
DTSTART;TZID=Europe/London:20231018T083000
DTEND;TZID=Europe/London:20231018T210000
DTSTAMP:20260421T131148
CREATED:20230921T181511Z
LAST-MODIFIED:20230921T181513Z
UID:1618-1697617800-1697662800@www.bristolbordeaux.org
SUMMARY:Bristol - Bordeaux Members Trip 2024
DESCRIPTION:Please join us at our scoping meeting at 7:00pm on  Wednesday 18th October 2023\, at the Berkeley Square Hotel \n\n\n\n\n\nOur broad visit agenda will cover: \n\n\n\n1  The Fete du Vin itself.  This is a very sociable time in Bordeaux: outdoors\, by the river\, and we may well aim to obtain tickets that entitle you to 11 tastings.  Crucially\, these would be over the four days\, so you can drop by afternoon or evening.   \n\n\n\n2  Wider events and outings.   Both in the city – the more established sights and relative novelties such as the light show in the big submarine pen – and near the city – wine villages such as Saint Emilion?  The coast at Arcachon? How much would you like organised\, how much free time? \n\n\n\n3 Travel and accommodation.  For many EasyJet flights will be the easiest\, but other options?   Different types of accommodation according to individuals’ budget? 
URL:https://www.bristolbordeaux.org/event/bristol-bordeaux-members-trip-2024/
LOCATION:Berkley Square Hotel\, 15 Berkeley Square\,\, Bristol\, BS8 1HB\, United Kingdom
END:VEVENT
END:VCALENDAR