BEGIN:VCALENDAR
VERSION:2.0
PRODID:-//Bristol Bordeaux Partnership - ECPv6.15.20//NONSGML v1.0//EN
CALSCALE:GREGORIAN
METHOD:PUBLISH
X-WR-CALNAME:Bristol Bordeaux Partnership
X-ORIGINAL-URL:https://www.bristolbordeaux.org
X-WR-CALDESC:Events for Bristol Bordeaux Partnership
REFRESH-INTERVAL;VALUE=DURATION:PT1H
X-Robots-Tag:noindex
X-PUBLISHED-TTL:PT1H
BEGIN:VTIMEZONE
TZID:Europe/London
BEGIN:DAYLIGHT
TZOFFSETFROM:+0000
TZOFFSETTO:+0100
TZNAME:BST
DTSTART:20220327T010000
END:DAYLIGHT
BEGIN:STANDARD
TZOFFSETFROM:+0100
TZOFFSETTO:+0000
TZNAME:GMT
DTSTART:20221030T010000
END:STANDARD
BEGIN:DAYLIGHT
TZOFFSETFROM:+0000
TZOFFSETTO:+0100
TZNAME:BST
DTSTART:20230326T010000
END:DAYLIGHT
BEGIN:STANDARD
TZOFFSETFROM:+0100
TZOFFSETTO:+0000
TZNAME:GMT
DTSTART:20231029T010000
END:STANDARD
BEGIN:DAYLIGHT
TZOFFSETFROM:+0000
TZOFFSETTO:+0100
TZNAME:BST
DTSTART:20240331T010000
END:DAYLIGHT
BEGIN:STANDARD
TZOFFSETFROM:+0100
TZOFFSETTO:+0000
TZNAME:GMT
DTSTART:20241027T010000
END:STANDARD
END:VTIMEZONE
BEGIN:VEVENT
DTSTART;TZID=Europe/London:20231123T143000
DTEND;TZID=Europe/London:20231123T220000
DTSTAMP:20260421T113605
CREATED:20230921T183620Z
LAST-MODIFIED:20230921T183625Z
UID:1624-1700749800-1700776800@www.bristolbordeaux.org
SUMMARY:French Tech Day - Bordeaux
DESCRIPTION:Ça y est ! Nous venons d’ouvrir les inscriptions pour participer au prochain French Tech Day\, le 23 novembre au Palais de la Bourse à Bordeaux. L’an dernier\, plus de 2000 personnes ont franchi la porte de notre plus grand événement annuel. Serez-vous là cette année ?
URL:https://www.bristolbordeaux.org/event/french-tech-day-bordeaux/
LOCATION:Palais De La Bourse\, 17 Place de la Bourse\, Bordeaux\, 33076\, France
END:VEVENT
END:VCALENDAR